BEGIN:VCALENDAR
PRODID:-//github.com/rianjs/ical.net//NONSGML ical.net 4.0//EN
VERSION:2.0
BEGIN:VEVENT
DESCRIPTION:Zu schönen Highlights auf der anderen Rheinseite\nhttps://tour
 en-termine.adfc.de/radveranstaltung/156166-durch-den-ratinger-wald-nach-r
 atingen-mitte
DTEND:20250524T140000Z
DTSTAMP:20260421T204223Z
DTSTART:20250524T080000Z
LOCATION:Rathaus\, Am Neumarkt 2 (Alte Heerstrasse\, neben den Ladesäulen 
 an der Parkplatzeinfahrt)\, 41564 Kaarst
SEQUENCE:0
SUMMARY:Durch den Ratinger Wald nach Ratingen Mitte
UID:b5ac14c8-7d3d-409a-962a-32609a633a89
URL:https://touren-termine.adfc.de/radveranstaltung/156166-durch-den-ratin
 ger-wald-nach-ratingen-mitte
END:VEVENT
END:VCALENDAR
