BEGIN:VCALENDAR
PRODID:-//github.com/rianjs/ical.net//NONSGML ical.net 4.0//EN
VERSION:2.0
BEGIN:VEVENT
DESCRIPTION:Lust auf noch etwas Bewegung am Abend? \nDann fahren Sie mit b
 ei den Feierabendtouren rund um Bietigheim-Bissingen.\nhttps://touren-ter
 mine.adfc.de/radveranstaltung/89899-bietigheimbissinger-mountainbikefeier
 abendtouren
DTEND:20230823T190000Z
DTSTAMP:20260425T195029Z
DTSTART:20230823T163000Z
LOCATION:Enzpavillon\, 74321 Bietigheim-Bissingen
SEQUENCE:0
SUMMARY:Bietigheim-Bissinger Mountainbike-Feierabendtouren
UID:06a54d0a-6105-437c-afe1-5197d93a99f0
URL:https://touren-termine.adfc.de/radveranstaltung/89899-bietigheimbissin
 ger-mountainbikefeierabendtouren
END:VEVENT
END:VCALENDAR
