BEGIN:VCALENDAR
PRODID:-//github.com/rianjs/ical.net//NONSGML ical.net 4.0//EN
VERSION:2.0
BEGIN:VEVENT
DESCRIPTION:Niederrhein\nhttps://touren-termine.adfc.de/radveranstaltung/1
 81568-rheinkreuzfahrt-bislich-xanten
DTEND:20260725T150000Z
DTSTAMP:20260421T152832Z
DTSTART:20260725T080000Z
LOCATION:Bislicher Wald\, 46487 Wesel
SEQUENCE:0
SUMMARY:Rheinkreuzfahrt Bislich – Xanten
UID:c1bd4211-4cc6-40b1-9a5e-3222370fd797
URL:https://touren-termine.adfc.de/radveranstaltung/181568-rheinkreuzfahrt
 -bislich-xanten
END:VEVENT
END:VCALENDAR
