BEGIN:VCALENDAR
PRODID:-//github.com/rianjs/ical.net//NONSGML ical.net 4.0//EN
VERSION:2.0
BEGIN:VEVENT
DESCRIPTION:Spontantour mit wechselnden Tourenleiter. \nBitte anmelden\nht
 tps://touren-termine.adfc.de/radveranstaltung/139383-nachmittagstour-in-h
 erborn
DTEND:20250729T150000Z
DTSTAMP:20260424T170714Z
DTSTART:20250729T120000Z
LOCATION:Marktplatz\, 35745 Herborn
SEQUENCE:0
SUMMARY:Nachmittagstour in Herborn
UID:aeded014-acf9-4f9c-bd5c-1e0b338785e7
URL:https://touren-termine.adfc.de/radveranstaltung/139383-nachmittagstour
 -in-herborn
END:VEVENT
END:VCALENDAR
