BEGIN:VCALENDAR
PRODID:-//github.com/rianjs/ical.net//NONSGML ical.net 4.0//EN
VERSION:2.0
BEGIN:VEVENT
DESCRIPTION:Wir beschäftigen uns mit der Verkehrsplanung im Bezirk Mitte u
 nd setzten uns dabei für den Radverkehr ein.\nhttps://touren-termine.adfc
 .de/radveranstaltung/126868-bezirksgruppe-mitte
DTEND:20250303T200000Z
DTSTAMP:20260420T231227Z
DTSTART:20250303T180000Z
LOCATION:Koppel 34-36\, 20099 Hamburg
SEQUENCE:0
SUMMARY:Bezirksgruppe Mitte
UID:ba25885b-b61e-42db-8ad9-ef8e9f5f2ed1
URL:https://touren-termine.adfc.de/radveranstaltung/126868-bezirksgruppe-m
 itte
END:VEVENT
END:VCALENDAR
