BEGIN:VCALENDAR
PRODID:-//github.com/rianjs/ical.net//NONSGML ical.net 4.0//EN
VERSION:2.0
BEGIN:VEVENT
DESCRIPTION:Die Tulpen-Magnolie treibt schon ihre Knospen aus. Die Blüteze
 it ist recht kurz\, aber Form und Farbe ist prächtig anzuschauen.\nhttps:
 //touren-termine.adfc.de/radveranstaltung/160216-die-tulpenmagnolie-in-un
 serer-region
DTEND:20250318T160000Z
DTSTAMP:20260423T151753Z
DTSTART:20250318T120000Z
LOCATION:Radstation Stationsstraße 3\, S-Bahn\, Omnibusse\, 51465 Bergisch
  Gladbach
SEQUENCE:0
SUMMARY:Die Tulpen-Magnolie in unserer Region
UID:aa2e804c-4408-466f-92c7-ecfa358e3d4e
URL:https://touren-termine.adfc.de/radveranstaltung/160216-die-tulpenmagno
 lie-in-unserer-region
END:VEVENT
END:VCALENDAR
