BEGIN:VCALENDAR
PRODID:-//github.com/rianjs/ical.net//NONSGML ical.net 4.0//EN
VERSION:2.0
BEGIN:VEVENT
DESCRIPTION:Wir beschäftigen uns mit der Verkehrsplanung im Bezirk Mitte u
 nd setzten uns dabei für den Radverkehr ein.\nhttps://touren-termine.adfc
 .de/radveranstaltung/100095-bezirksgruppe-mitte
DTEND:20231106T200000Z
DTSTAMP:20260420T231254Z
DTSTART:20231106T183000Z
LOCATION:Koppel 34-36\, 20099 Hamburg
SEQUENCE:0
SUMMARY:Bezirksgruppe Mitte
UID:7c3a1009-7c11-4d52-ae36-43b22d3f0f53
URL:https://touren-termine.adfc.de/radveranstaltung/100095-bezirksgruppe-m
 itte
END:VEVENT
END:VCALENDAR
