BEGIN:VCALENDAR
PRODID:-//github.com/rianjs/ical.net//NONSGML ical.net 4.0//EN
VERSION:2.0
BEGIN:VEVENT
DESCRIPTION:Jeden 3. Freitag im Monat\, Treffpunkt immer 18:00 Uhr\, immer
  am Marktplatz Rheydt\, ca. 1\,5 h\nhttps://touren-termine.adfc.de/radver
 anstaltung/85152-adfcabendradtour
DTEND:20230616T173000Z
DTSTAMP:20260423T134107Z
DTSTART:20230616T160000Z
LOCATION:Hauptstraße\, 41236 Mönchengladbach
SEQUENCE:0
SUMMARY:ADFC-AbendRadTour
UID:89815095-eaf0-483d-82f1-89304277270d
URL:https://touren-termine.adfc.de/radveranstaltung/85152-adfcabendradtour
END:VEVENT
END:VCALENDAR
