BEGIN:VCALENDAR
PRODID:-//github.com/rianjs/ical.net//NONSGML ical.net 4.0//EN
VERSION:2.0
BEGIN:VEVENT
DESCRIPTION:Wir bieten verschiedene Strecken zwischen 25 km und 35 km Läng
 e mit einer Fahrtdauer von ca. 2 Stunden an.\nhttps://touren-termine.adfc
 .de/radveranstaltung/144797-feierabendtour-parkplatz-donauarena
DTEND:20250910T190000Z
DTSTAMP:20260421T161052Z
DTSTART:20250910T160000Z
LOCATION:Parkplatz Donau-Arena\, Walhalla-Allee\, 93055 Regensburg
SEQUENCE:0
SUMMARY:Feierabendtour: Parkplatz Donau-Arena
UID:0938dc13-98a3-4e6e-b73d-0b4a69d77315
URL:https://touren-termine.adfc.de/radveranstaltung/144797-feierabendtour-
 parkplatz-donauarena
END:VEVENT
END:VCALENDAR
