BEGIN:VCALENDAR
PRODID:-//github.com/rianjs/ical.net//NONSGML ical.net 4.0//EN
VERSION:2.0
BEGIN:VEVENT
DESCRIPTION:Fancy Radtour von Frauen für Frauen. Wir feiern das Radfahren 
 und die Weiblichkeit mit dieser Radtour indem wir uns schick und bunt kle
 iden und unsere Fahrräder schmücken.\nhttps://touren-termine.adfc.de/radv
 eranstaltung/160932-fancy-cyclistaride
DTEND:20250628T150000Z
DTSTAMP:20260421T040734Z
DTSTART:20250628T130000Z
LOCATION:Carl-von-Ossietzky-Platz 1\, 20099 Hamburg
SEQUENCE:0
SUMMARY:Fancy Cyclista*Ride
UID:512bbe5d-1550-4382-8888-8ac092cfc453
URL:https://touren-termine.adfc.de/radveranstaltung/160932-fancy-cyclistar
 ide
END:VEVENT
END:VCALENDAR
