BEGIN:VCALENDAR
PRODID:-//github.com/rianjs/ical.net//NONSGML ical.net 4.0//EN
VERSION:2.0
BEGIN:VEVENT
DESCRIPTION:Fahrsicherheitstraining für Erwachsene. Auffrischung und Train
 ing der praktischen Grundkenntnisse der Fahrtechnik.\nAnmeldung bis 15.09
 .2025\nhttps://touren-termine.adfc.de/radveranstaltung/145841-fahrsicherh
 eitstraining-in-kaufbeuren-level-1
DTEND:20250918T170000Z
DTSTAMP:20260419T155844Z
DTSTART:20250918T140000Z
LOCATION:Honoldstraße\, Verkehrsübungsplatz\, 87600 Kaufbeuren
SEQUENCE:0
SUMMARY:Fahrsicherheitstraining in Kaufbeuren - Level 1
UID:7bf2f7ae-7d14-4124-aab4-3920b5808f50
URL:https://touren-termine.adfc.de/radveranstaltung/145841-fahrsicherheits
 training-in-kaufbeuren-level-1
END:VEVENT
END:VCALENDAR
