BEGIN:VCALENDAR
PRODID:-//github.com/rianjs/ical.net//NONSGML ical.net 4.0//EN
VERSION:2.0
BEGIN:VEVENT
DESCRIPTION:Eine 19 km lange Wanderung von und nach Bf. Oderin zu den Heid
 eseen und dem Bergspreewald. Aussichtsreich vom Wehlaberg gedenken wir de
 m Cargolifter. Mit Anmeldung.\nhttps://touren-termine.adfc.de/radveransta
 ltung/182922-wanderung-la-montagne-de-la-krausnick
DTEND:20260103T160000Z
DTSTAMP:20260424T190300Z
DTSTART:20260103T085000Z
LOCATION:Bhf. Ostkreuz\, Ringbahnsteig vor dem Mc Donald\, 10245 Berlin
SEQUENCE:0
SUMMARY:Wanderung: La Montagne de la Krausnick
UID:8ec2d21f-a52b-4e14-8ab1-9f600ab64143
URL:https://touren-termine.adfc.de/radveranstaltung/182922-wanderung-la-mo
 ntagne-de-la-krausnick
END:VEVENT
END:VCALENDAR
