BEGIN:VCALENDAR
PRODID:-//github.com/rianjs/ical.net//NONSGML ical.net 4.0//EN
VERSION:2.0
BEGIN:VEVENT
DESCRIPTION:Gemeinschaftsveranstaltung mit dem BUND. Radtour zurTrupbacher
  Heide und geführte Wanderung durch das Naturschutzgebiet.\nhttps://toure
 n-termine.adfc.de/radveranstaltung/132752-wanderung-auf-der-trupbacher-he
 ide-mit-dem-bund
DTEND:20240512T120000Z
DTSTAMP:20260423T030707Z
DTSTART:20240512T073000Z
LOCATION:Jakob-Scheiner-Platz\, 57072 Siegen
SEQUENCE:0
SUMMARY:Wanderung auf der Trupbacher Heide mit dem BUND
UID:195c5d7a-1dd1-4711-ab21-ff0088aa904a
URL:https://touren-termine.adfc.de/radveranstaltung/132752-wanderung-auf-d
 er-trupbacher-heide-mit-dem-bund
END:VEVENT
END:VCALENDAR
