BEGIN:VCALENDAR
PRODID:-//github.com/rianjs/ical.net//NONSGML ical.net 4.0//EN
VERSION:2.0
BEGIN:VEVENT
DESCRIPTION:Auf dieser Frühlingsrunde genießen wir die Schönheit der Schwä
 bischen Alb und blicken vom Dreifürstenstein auf die Burg Hohenzollern. 6
 7 km\, 900 Hm\nhttps://touren-termine.adfc.de/radveranstaltung/149596-dre
 ifurstenstein-sagenhafte-aussichten
DTEND:20250406T150000Z
DTSTAMP:20260424T161829Z
DTSTART:20250406T080000Z
LOCATION:Hbf\, Nordausgang\, 72760 Reutlingen
SEQUENCE:0
SUMMARY:Dreifürstenstein - sagenhafte Aussichten
UID:4ffd1b0c-44fd-4590-aac4-6f1e73d9f3c9
URL:https://touren-termine.adfc.de/radveranstaltung/149596-dreifurstenstei
 n-sagenhafte-aussichten
END:VEVENT
END:VCALENDAR
