BEGIN:VCALENDAR
PRODID:-//github.com/rianjs/ical.net//NONSGML ical.net 4.0//EN
VERSION:2.0
BEGIN:VEVENT
DESCRIPTION:Jeden Mittwoch vom 1.4. bis zum 31.8.2026\nStart 18.oo am Rath
 aus Gbw\, ca 30km\nhttps://touren-termine.adfc.de/radveranstaltung/192733
 -kurztour
DTEND:20260603T180000Z
DTSTAMP:20260423T182709Z
DTSTART:20260603T160000Z
LOCATION:Fuhrberger Straße 4\, 30938 Burgwedel
SEQUENCE:0
SUMMARY:Kurztour
UID:11ac8f0d-ccb6-4f31-b5aa-277c2e2fc2f5
URL:https://touren-termine.adfc.de/radveranstaltung/192733-kurztour
END:VEVENT
END:VCALENDAR
