BEGIN:VCALENDAR
PRODID:-//github.com/rianjs/ical.net//NONSGML ical.net 4.0//EN
VERSION:2.0
BEGIN:VEVENT
DESCRIPTION:Ciao Stau: mehr Platz fürs Rad!\n\nWir bilden einen Zubringera
 rm für die Fahrraddemo in Düsseldorf\, um dort für eine Verkehrswende zu 
 demonstrieren. Wir fahren mit Polizeibegleitung!\nhttps://touren-termine.
 adfc.de/radveranstaltung/190100-adfc-fahrradsternfahrt-nrw-2026-aus-solin
 gen
DTEND:20260503T150000Z
DTSTAMP:20260421T210959Z
DTSTART:20260503T094500Z
LOCATION:Walter-Scheel-Platz\, Solingen\, Rathaus\, 42651 Solingen
SEQUENCE:0
SUMMARY:ADFC Fahrrad-Sternfahrt NRW 2026 aus Solingen
UID:6e7e4608-ece8-45f5-aae7-e9b5899dec7c
URL:https://touren-termine.adfc.de/radveranstaltung/190100-adfc-fahrradste
 rnfahrt-nrw-2026-aus-solingen
END:VEVENT
END:VCALENDAR
