BEGIN:VCALENDAR
PRODID:-//github.com/rianjs/ical.net//NONSGML ical.net 4.0//EN
VERSION:2.0
BEGIN:VEVENT
DESCRIPTION:Mitglieder hören Berichte aus Arbeitsgruppen\, besprechen weit
 ere Vorgehen und Aktivitäten\, tauschen Ideen aus – informativ\, zielorie
 ntiert und verbindend!\nhttps://touren-termine.adfc.de/radveranstaltung/1
 91763-adfc-aktiventreff
DTEND:20260618T183000Z
DTSTAMP:20260420T150704Z
DTSTART:20260618T163000Z
LOCATION:Alsenstraße 27\, 44789 Bochum
SEQUENCE:0
SUMMARY:ADFC Aktiventreff
UID:5c1c5681-e2ba-44de-b0a1-e24dc6eee862
URL:https://touren-termine.adfc.de/radveranstaltung/191763-adfc-aktiventre
 ff
END:VEVENT
END:VCALENDAR
