BEGIN:VCALENDAR
PRODID:-//github.com/rianjs/ical.net//NONSGML ical.net 4.0//EN
VERSION:2.0
BEGIN:VEVENT
DESCRIPTION:offen für interessierte Mitglieder und Gäste\nhttps://touren-t
 ermine.adfc.de/radveranstaltung/183890-offene-vorstandssitzung-des-adfc-e
 ssen
DTEND:20260703T193000Z
DTSTAMP:20260421T100926Z
DTSTART:20260703T163000Z
LOCATION:Essen (Innenstadt)\, ADFC Essen Geschäftsstelle\, Rottstraße 5\, 
 45127 Essen
SEQUENCE:0
SUMMARY:Offene Vorstandssitzung des ADFC Essen
UID:05dbc87c-f219-497c-ab4b-12e22e584bba
URL:https://touren-termine.adfc.de/radveranstaltung/183890-offene-vorstand
 ssitzung-des-adfc-essen
END:VEVENT
END:VCALENDAR
