BEGIN:VCALENDAR
PRODID:-//github.com/rianjs/ical.net//NONSGML ical.net 4.0//EN
VERSION:2.0
BEGIN:VEVENT
DESCRIPTION:Wir fahren von Großräschen nach Senftenberg. Zwischen den Seen
  und durch die Wälder.\nhttps://touren-termine.adfc.de/radveranstaltung/1
 50666-durch-das-seenland-bei-senftenberg
DTEND:20250704T170000Z
DTSTAMP:20260421T233206Z
DTSTART:20250704T063000Z
LOCATION:Bhf. Berlin Ostkreuz\, Ringbahnsteig vor Mc-Donalds\, 10245 Berlin
SEQUENCE:0
SUMMARY:Durch das Seenland bei Senftenberg
UID:7ebdce38-18dd-4e97-876e-6a63675b386f
URL:https://touren-termine.adfc.de/radveranstaltung/150666-durch-das-seenl
 and-bei-senftenberg
END:VEVENT
END:VCALENDAR
