BEGIN:VCALENDAR
PRODID:-//github.com/rianjs/ical.net//NONSGML ical.net 4.0//EN
VERSION:2.0
BEGIN:VEVENT
DESCRIPTION:Der ADFC Neumarkt codiert Fahrräder beim Mobilitätstag\nhttps:
 //touren-termine.adfc.de/radveranstaltung/197163-fahrradcodierung-beim-mo
 bilitatstag
DTEND:20260426T130000Z
DTSTAMP:20260424T200613Z
DTSTART:20260426T090000Z
LOCATION:Rathausplatz\, 92318 Neumarkt in der Oberpfalz
SEQUENCE:0
SUMMARY:Fahrradcodierung beim Mobilitätstag
UID:0374dc02-06bf-45c1-9814-f1397d4d1c53
URL:https://touren-termine.adfc.de/radveranstaltung/197163-fahrradcodierun
 g-beim-mobilitatstag
END:VEVENT
END:VCALENDAR
