BEGIN:VCALENDAR
PRODID:-//github.com/rianjs/ical.net//NONSGML ical.net 4.0//EN
VERSION:2.0
BEGIN:VEVENT
DESCRIPTION:Erfahrungs- und Testevent für Radmodelle in allen Lebenslagen\
 nhttps://touren-termine.adfc.de/radveranstaltung/171563-stabil-mobil-spez
 ialrader-testen
DTEND:20250923T150000Z
DTSTAMP:20260425T021420Z
DTSTART:20250923T100000Z
LOCATION:Rathausplatz 1\, 92318 Neumarkt in der Oberpfalz
SEQUENCE:0
SUMMARY:stabil mobil - Spezialräder testen
UID:04335c98-48aa-49e3-9a05-c0b75b282cdf
URL:https://touren-termine.adfc.de/radveranstaltung/171563-stabil-mobil-sp
 ezialrader-testen
END:VEVENT
END:VCALENDAR
