BEGIN:VCALENDAR
PRODID:-//github.com/rianjs/ical.net//NONSGML ical.net 4.0//EN
VERSION:2.0
BEGIN:VEVENT
DESCRIPTION:STADTRADELN Hamburg findet vom 13. Juni bis 3. Juli statt. Fah
 r für deine Gesundheit\, für Radverkehrsförderung und ein besseres Hambur
 g. Lasst uns gemeinsam zeigen\, dass wir viele sind.\nhttps://touren-term
 ine.adfc.de/radveranstaltung/167238-stadtradeln-hamburg
DTEND:20250703T215500Z
DTSTAMP:20260420T230759Z
DTSTART:20250612T220000Z
LOCATION:An der Alster 47a\, 20099 Hamburg
SEQUENCE:0
SUMMARY:STADTRADELN Hamburg
UID:976b1d67-6e46-4a45-9d27-c15228e3de1d
URL:https://touren-termine.adfc.de/radveranstaltung/167238-stadtradeln-ham
 burg
END:VEVENT
END:VCALENDAR
