BEGIN:VCALENDAR
PRODID:-//github.com/rianjs/ical.net//NONSGML ical.net 4.0//EN
VERSION:2.0
BEGIN:VEVENT
DESCRIPTION:Jeden Montag findet morgens eine Radtour statt.\nhttps://toure
 n-termine.adfc.de/radveranstaltung/103780-montag-morgen-tour
DTEND:20230710T100000Z
DTSTAMP:20260423T201808Z
DTSTART:20230710T080000Z
LOCATION:In der Ahe 29\, 27356 Rotenburg
SEQUENCE:0
SUMMARY:Montag Morgen Tour
UID:4d6c8738-6492-40b0-850f-46453de1ce88
URL:https://touren-termine.adfc.de/radveranstaltung/103780-montag-morgen-t
 our
END:VEVENT
END:VCALENDAR
