BEGIN:VCALENDAR
PRODID:-//github.com/rianjs/ical.net//NONSGML ical.net 4.0//EN
VERSION:2.0
BEGIN:VEVENT
DESCRIPTION:Gemütliche Mittagstour ab Haßloch\nhttps://touren-termine.adfc
 .de/radveranstaltung/181667-gemutliche-mittagstour-ab-hassloch
DTEND:20260903T120000Z
DTSTAMP:20260425T173001Z
DTSTART:20260903T090000Z
LOCATION:Rathausplatz\, 67454 Haßloch
SEQUENCE:0
SUMMARY:Gemütliche Mittagstour ab Haßloch
UID:144cfddb-3738-4c46-92a2-82608685b492
URL:https://touren-termine.adfc.de/radveranstaltung/181667-gemutliche-mitt
 agstour-ab-hassloch
END:VEVENT
END:VCALENDAR
