BEGIN:VCALENDAR
PRODID:-//github.com/rianjs/ical.net//NONSGML ical.net 4.0//EN
VERSION:2.0
BEGIN:VEVENT
DESCRIPTION:Dass man auf den Inseln des ewigen Frühlings hervorragend wand
 ern\, baden und überwintern kann? Hat sich herumgesprochen. Radfahren? Un
 ter sportlich Ambitionierten auch kein Geheimtipp mehr.\nhttps://touren-t
 ermine.adfc.de/radveranstaltung/135322-kanaren-hopping-radreisevortrag
DTEND:20241113T200000Z
DTSTAMP:20260423T150258Z
DTSTART:20241113T173000Z
LOCATION:ADFC Köln\, Mauritiussteinweg 11\, 50676 Köln
SEQUENCE:0
SUMMARY:Kanaren Hopping Radreisevortrag
UID:d3e21733-231c-420a-b4b2-70234ebeb6fc
URL:https://touren-termine.adfc.de/radveranstaltung/135322-kanaren-hopping
 -radreisevortrag
END:VEVENT
END:VCALENDAR
