BEGIN:VCALENDAR
PRODID:-//github.com/rianjs/ical.net//NONSGML ical.net 4.0//EN
VERSION:2.0
BEGIN:VEVENT
DESCRIPTION:In unserem FahrSicherheitsTraining lernst Du\, selbstbewusst d
 ie Herausforderungen des Radfahrens mit dem nötigen Know-how zu meistern.
  Wer sicher unterwegs ist\, steigt auch gerne aufs Rad.\nhttps://touren-t
 ermine.adfc.de/radveranstaltung/192686-fahrsicherheitstraining-grundkurs
DTEND:20260920T110000Z
DTSTAMP:20260424T190237Z
DTSTART:20260920T080000Z
LOCATION:Trakehner Allee 6\, Parkplatz Nähe S-Bhf. Olympiastadion\, 14055 
 Berlin
SEQUENCE:0
SUMMARY:FahrSicherheitsTraining - GRUNDKURS
UID:39712e26-7a13-4fe7-8fa1-c040e47e00eb
URL:https://touren-termine.adfc.de/radveranstaltung/192686-fahrsicherheits
 training-grundkurs
END:VEVENT
END:VCALENDAR
