BEGIN:VCALENDAR
PRODID:-//github.com/rianjs/ical.net//NONSGML ical.net 4.0//EN
VERSION:2.0
BEGIN:VEVENT
DESCRIPTION:Wir fahren in Fahrgemeinschaften ins Alpenland. Das Ziel wird 
 bei der Anmeldung bekannt gegeben. Im Voralpenland und im 5 Seengebiet we
 rden ebenso Touren angeboten.\nhttps://touren-termine.adfc.de/radveransta
 ltung/89177-mtbbergtour-nach-wahl
DTEND:20230824T160000Z
DTSTAMP:20260425T150439Z
DTSTART:20230824T063000Z
LOCATION:Carolinenstraße\, 82319 Starnberg
SEQUENCE:0
SUMMARY:MTB-Bergtour nach Wahl
UID:5e7997e5-dbe4-4c2a-94a0-cced47f483cd
URL:https://touren-termine.adfc.de/radveranstaltung/89177-mtbbergtour-nach
 -wahl
END:VEVENT
END:VCALENDAR
