BEGIN:VCALENDAR
PRODID:-//github.com/rianjs/ical.net//NONSGML ical.net 4.0//EN
VERSION:2.0
BEGIN:VEVENT
DESCRIPTION:Radreise-Vortrag Marokko\nBerge\, Wüste\, Meer? Klingt vielver
 sprechend. Medina\, Souk\, Kasbah? Klingt spannend. Im Falle der Fälle ni
 cht mehr die Pannenhelfer anrufen zu können.\nhttps://touren-termine.adfc
 .de/radveranstaltung/162271-radreisevortag-marokko
DTEND:20251022T190000Z
DTSTAMP:20260423T150258Z
DTSTART:20251022T170000Z
LOCATION:Mauritiussteinweg 11\, 50676 Köln
SEQUENCE:0
SUMMARY:Radreise-Vortag Marokko
UID:09c0e372-8e95-43a2-83ea-a0b1946874d4
URL:https://touren-termine.adfc.de/radveranstaltung/162271-radreisevortag-
 marokko
END:VEVENT
END:VCALENDAR
