BEGIN:VCALENDAR
PRODID:-//github.com/rianjs/ical.net//NONSGML ical.net 4.0//EN
VERSION:2.0
BEGIN:VEVENT
DESCRIPTION:Wir codieren Fahrräder und Zubehör mit dem EIN Code. Die Codie
 rung findet zwischen 12 und 16 Uhr statt. codierung.adfc-siegen.de\, bewa
 chter Fahhradstellplatz\nhttps://touren-termine.adfc.de/radveranstaltung/
 172464-brotmarkt-codierung-fahrradstellplatz-infostand
DTEND:20251005T150000Z
DTSTAMP:20260423T030927Z
DTSTART:20251005T093000Z
LOCATION:Lehrerparkplatz Johannes Althusius Gymnasium\, Höhe Poststraße 42
 \, 57319 Bad Berleburg
SEQUENCE:0
SUMMARY:Brotmarkt: Codierung\, Fahrradstellplatz\, Infostand
UID:0a1a8abb-cd98-4c76-b378-44c245ee3cc7
URL:https://touren-termine.adfc.de/radveranstaltung/172464-brotmarkt-codie
 rung-fahrradstellplatz-infostand
END:VEVENT
END:VCALENDAR
