BEGIN:VCALENDAR
PRODID:-//github.com/rianjs/ical.net//NONSGML ical.net 4.0//EN
VERSION:2.0
BEGIN:VEVENT
DESCRIPTION:ca. 50 km\, 16-18 km/h\, Start: Pavillon Schmölderpark\, 19.06
 .2025\, 09:15 Uhr. Ca.10:00 Uhr Korschenbroich\, Sportplatz am Trietenbac
 h\, ca.10:45 Uhr Nikolauskloster. Mit Einkehrmöglichkeiten.\nhttps://tour
 en-termine.adfc.de/radveranstaltung/167836-rheydt-kloster-langwaden-rheyd
 t
DTEND:20250619T140000Z
DTSTAMP:20260420T232229Z
DTSTART:20250619T071500Z
LOCATION:Schmölderstraße\, 41239 Mönchengladbach
SEQUENCE:0
SUMMARY:Rheydt - Kloster Langwaden - Rheydt
UID:275d811f-9310-48f8-aa4e-90533c0c61fc
URL:https://touren-termine.adfc.de/radveranstaltung/167836-rheydt-kloster-
 langwaden-rheydt
END:VEVENT
END:VCALENDAR
