BEGIN:VCALENDAR
PRODID:-//github.com/rianjs/ical.net//NONSGML ical.net 4.0//EN
VERSION:2.0
BEGIN:VEVENT
DESCRIPTION:Pättkestour zum Naturschutzzentrum Nottuln-Darup mit Führung  
 durch die Sonderausstellung zur 200jährigen Geschichte der Pflanzen im Kr
 eis Coesfeld\nhttps://touren-termine.adfc.de/radveranstaltung/149543-tour
 -zum-naturschutzzentrum-in-nottulndarup
DTEND:20250914T163000Z
DTSTAMP:20260421T102110Z
DTSTART:20250914T103000Z
LOCATION:Borndalschule\, Gooiker Platz 3\, 48341 Kreis Steinfurt
SEQUENCE:0
SUMMARY:Tour zum Naturschutzzentrum in Nottuln-Darup
UID:ba3b49ea-1c30-44da-9442-7dd5dd9f3b95
URL:https://touren-termine.adfc.de/radveranstaltung/149543-tour-zum-naturs
 chutzzentrum-in-nottulndarup
END:VEVENT
END:VCALENDAR
