BEGIN:VCALENDAR
PRODID:-//github.com/rianjs/ical.net//NONSGML ical.net 4.0//EN
VERSION:2.0
BEGIN:VEVENT
DESCRIPTION:Vorankündigung\nWir treffen uns mit den ADFC OG des ADFC Siege
 n- Wittgenstein zu einem gemütlichen Beisammen sein bei der Skihütte Sohl
 . Für das leibliche Wohl ist gesorgt.\nhttps://touren-termine.adfc.de/rad
 veranstaltung/175196-sternfahrt-mit-dem-adfc-siegen-wittgenstein
DTEND:20260614T150000Z
DTSTAMP:20260424T170740Z
DTSTART:20260614T083000Z
LOCATION:Wilhelmsplatz\, 35683 Dillenburg
SEQUENCE:0
SUMMARY:Sternfahrt mit dem ADFC Siegen - Wittgenstein
UID:841aa357-d2ea-49b7-b430-cf4ea1ccdedc
URL:https://touren-termine.adfc.de/radveranstaltung/175196-sternfahrt-mit-
 dem-adfc-siegen-wittgenstein
END:VEVENT
END:VCALENDAR
