BEGIN:VCALENDAR
PRODID:-//github.com/rianjs/ical.net//NONSGML ical.net 4.0//EN
VERSION:2.0
BEGIN:VEVENT
DESCRIPTION:30-35 km\, gemütliches Tempo um 15 km/h mit Pausen und Einkehr
 \, Treffpunkt Parkplatz am Stadtwald RY\, 13:00 Uhr\, jeden 4. Donnerstag
  im Monat von Mai bis September\, ggf. Oktober (witterungsabhängig).\nhtt
 ps://touren-termine.adfc.de/radveranstaltung/186227-adfcseniorentour-2026
DTEND:20260925T150000Z
DTSTAMP:20260420T194825Z
DTSTART:20260528T110000Z
LOCATION:An der Rheydter Höhe 54\, 41239 Mönchengladbach
SEQUENCE:0
SUMMARY:ADFC-Seniorentour 2026
UID:bcf46729-a743-4a09-a8de-c08e2f4a50da
URL:https://touren-termine.adfc.de/radveranstaltung/186227-adfcseniorentou
 r-2026
END:VEVENT
END:VCALENDAR
