BEGIN:VCALENDAR
PRODID:-//github.com/rianjs/ical.net//NONSGML ical.net 4.0//EN
VERSION:2.0
BEGIN:VEVENT
DESCRIPTION:Leichte Radtour mit Besichtigung von Schloss Alteglofsheim - e
 hemalige Wasserburg und heutiges "Musikschloss"\nhttps://touren-termine.a
 dfc.de/radveranstaltung/149112-zur-schlossfuhrung-nach-alteglofsheim-stor
 niert
DTEND:20250601T170000Z
DTSTAMP:20260421T160925Z
DTSTART:20250601T100000Z
LOCATION:östlicher Parkplatz Donauarena\, 93055 Regensburg
SEQUENCE:0
SUMMARY:Zur Schlossführung nach Alteglofsheim - STORNIERT
UID:1a917d5a-75d3-4263-be69-c7eb98070476
URL:https://touren-termine.adfc.de/radveranstaltung/149112-zur-schlossfuhr
 ung-nach-alteglofsheim-storniert
END:VEVENT
END:VCALENDAR
