BEGIN:VCALENDAR
PRODID:-//github.com/rianjs/ical.net//NONSGML ical.net 4.0//EN
VERSION:2.0
BEGIN:VEVENT
DESCRIPTION:Jeder Kilometer zählt. Radeln für Humedica. Radeln für den Rad
 entscheid Bayern. Kundgebung am Rathaus Türkheim um 11:00 Uhr\nhttps://to
 uren-termine.adfc.de/radveranstaltung/102821-sternradltour-nach-turkheim
DTEND:20230618T130000Z
DTSTAMP:20260419T155842Z
DTSTART:20230618T063000Z
LOCATION:Buronstraße\, 87600 Kaufbeuren
SEQUENCE:0
SUMMARY:Sternradltour nach Türkheim
UID:9b45bd28-793f-43f9-a3c5-496894f4097c
URL:https://touren-termine.adfc.de/radveranstaltung/102821-sternradltour-n
 ach-turkheim
END:VEVENT
END:VCALENDAR
