BEGIN:VCALENDAR
PRODID:-//github.com/rianjs/ical.net//NONSGML ical.net 4.0//EN
VERSION:2.0
BEGIN:VEVENT
DESCRIPTION:Schöne Radtour über den Schurwald und im Nassachtal an den Nec
 kar\nhttps://touren-termine.adfc.de/radveranstaltung/176178-von-bad-canns
 tatt-nach-plochingen
DTEND:20251217T150000Z
DTSTAMP:20260424T144723Z
DTSTART:20251217T090000Z
LOCATION:Kegelenstraße 12\, 70372 Stuttgart
SEQUENCE:0
SUMMARY:Von Bad Cannstatt nach Plochingen
UID:aafd4393-7ca9-47c3-bd1b-407d99083d51
URL:https://touren-termine.adfc.de/radveranstaltung/176178-von-bad-cannsta
 tt-nach-plochingen
END:VEVENT
END:VCALENDAR
