BEGIN:VCALENDAR
PRODID:-//github.com/rianjs/ical.net//NONSGML ical.net 4.0//EN
VERSION:2.0
BEGIN:VEVENT
DESCRIPTION:Niemand ist perfekt\, das Radwegesystem in Cuxhaven schon gar 
 nicht!\nWir unterhalten uns über alle Dinge rund ums Fahrrad und nehmen W
 ünsche und Anregungen an.\nhttps://touren-termine.adfc.de/radveranstaltun
 g/142251-kaffeestunde
DTEND:20250526T150000Z
DTSTAMP:20260421T022448Z
DTSTART:20250526T130000Z
LOCATION:Bürgerbahnhof\, Am Bahnhof 1\, 27472 Cuxhaven
SEQUENCE:0
SUMMARY:Kaffeestunde
UID:ee678986-41be-4d96-8c81-faccc52fa478
URL:https://touren-termine.adfc.de/radveranstaltung/142251-kaffeestunde
END:VEVENT
END:VCALENDAR
