BEGIN:VCALENDAR
PRODID:-//github.com/rianjs/ical.net//NONSGML ical.net 4.0//EN
VERSION:2.0
BEGIN:VEVENT
DESCRIPTION:Lockere Runde über Ruderregatta und Feldmoching zu Anna`s Tave
 rne......\nhttps://touren-termine.adfc.de/radveranstaltung/196959-sudostr
 unde
DTEND:20260611T180000Z
DTSTAMP:20260421T100715Z
DTSTART:20260611T160000Z
LOCATION:Bike & Ride Fahrradparkhaus\, 85221 Dachau
SEQUENCE:0
SUMMARY:Südostrunde
UID:c3efda5d-80d2-445e-8820-37e2a42abbd8
URL:https://touren-termine.adfc.de/radveranstaltung/196959-sudostrunde
END:VEVENT
END:VCALENDAR
