BEGIN:VCALENDAR
PRODID:-//github.com/rianjs/ical.net//NONSGML ical.net 4.0//EN
VERSION:2.0
BEGIN:VEVENT
DESCRIPTION:Traditionell geht unsere Eröffnungstour nach Bodenwerder. Dort
  wird eingekehrt.\nhttps://touren-termine.adfc.de/radveranstaltung/141955
 -eroffnungstour-nach-bodenwerder
DTEND:20250406T150000Z
DTSTAMP:20260423T141540Z
DTSTART:20250406T080000Z
LOCATION:Pfortmühle an der blauen Brücke\,\, 31785 Hameln
SEQUENCE:0
SUMMARY:Eröffnungstour nach Bodenwerder
UID:1538419a-f2dc-4c50-bb32-3a44612d6fd6
URL:https://touren-termine.adfc.de/radveranstaltung/141955-eroffnungstour-
 nach-bodenwerder
END:VEVENT
END:VCALENDAR
