BEGIN:VCALENDAR
PRODID:-//github.com/rianjs/ical.net//NONSGML ical.net 4.0//EN
VERSION:2.0
BEGIN:VEVENT
DESCRIPTION:Das Abenteuer Atlantik sind eigentlich zwei Reisen: Einmal von
  Rotterdam und ein zweites mal von der Algarve fuhr er mit dem Rennrad un
 d schmalem Gepäck nach Brest in die Bretagne.\nhttps://touren-termine.adf
 c.de/radveranstaltung/131645-abenteuer-atlantik-radreisevortrag
DTEND:20240522T200000Z
DTSTAMP:20260423T143919Z
DTSTART:20240522T170000Z
LOCATION:Mauritiussteinweg 11\, 50676 Köln
SEQUENCE:0
SUMMARY:Abenteuer Atlantik Radreisevortrag
UID:e170ac9a-c49a-43d8-8e72-e8710dee3c1f
URL:https://touren-termine.adfc.de/radveranstaltung/131645-abenteuer-atlan
 tik-radreisevortrag
END:VEVENT
END:VCALENDAR
