BEGIN:VCALENDAR
PRODID:-//github.com/rianjs/ical.net//NONSGML ical.net 4.0//EN
VERSION:2.0
BEGIN:VEVENT
DESCRIPTION:Mit dem Pedelec über die Höhen nach Langholdinghausen und in d
 ie Trupbacher Heide zum Kirrberg. Dann über die Panzerstraße zur Birlenba
 cher Höhe. Dort  Abfahrt nach Geisweid. Viele Wald- und Feldwege.\nhttps:
 //touren-termine.adfc.de/radveranstaltung/149650-pedelecfeierabendtour-zu
 r-heideblute
DTEND:20250814T183000Z
DTSTAMP:20260422T234554Z
DTSTART:20250814T160000Z
LOCATION:Marburgerstraße\, Roter Platz\, 57223 Kreuztal
SEQUENCE:0
SUMMARY:Pedelec-Feierabendtour zur Heideblüte
UID:4d8c5ff8-5584-457d-b701-69043b0c645d
URL:https://touren-termine.adfc.de/radveranstaltung/149650-pedelecfeierabe
 ndtour-zur-heideblute
END:VEVENT
END:VCALENDAR
