BEGIN:VCALENDAR
PRODID:-//github.com/rianjs/ical.net//NONSGML ical.net 4.0//EN
VERSION:2.0
BEGIN:VEVENT
DESCRIPTION:Start: 09:00 Uhr Marktplatz RY. Per Bike zum den vom NABU-MG b
 etreuten Amphibien. Nach der 2-stündigen NABU-Exkursion geht's zurück. Mi
 tgebrachte Gummistiefel sind sinnvoll! Anmeldung bis 15.02.2025\nhttps://
 touren-termine.adfc.de/radveranstaltung/150962-amphibien-im-gerkerather-w
 ald-nabumg
DTEND:20250322T100000Z
DTSTAMP:20260424T175731Z
DTSTART:20250322T080000Z
LOCATION:Hauptstraße 90\, vor dem Haupteingang der Ev. Hauptkirche\, 41236
  Rheydt
SEQUENCE:0
SUMMARY:Amphibien im Gerkerather Wald (NABU-MG)
UID:6744ce57-ecf3-41c4-9956-81769a37016c
URL:https://touren-termine.adfc.de/radveranstaltung/150962-amphibien-im-ge
 rkerather-wald-nabumg
END:VEVENT
END:VCALENDAR
