BEGIN:VCALENDAR
PRODID:-//github.com/rianjs/ical.net//NONSGML ical.net 4.0//EN
VERSION:2.0
BEGIN:VEVENT
DESCRIPTION:Dienstags & Donnerstags zwischen 18:00 und 20:00 Uhr kann dort
  jeder\, sein Fahrrad eigenverantwortlich selbst reparieren - wenn nötig 
 unter Anleitung oder Mithilfe unsere Werkstattteams\nhttps://touren-termi
 ne.adfc.de/radveranstaltung/165999-selbsthilfewerkstatt-ist-geoffnet
DTEND:20251007T180000Z
DTSTAMP:20260424T151837Z
DTSTART:20251007T160000Z
LOCATION:ADFC-Selbsthilfewerkstatt\, Weinweg 2\, 93049 Regensburg
SEQUENCE:0
SUMMARY:Selbsthilfewerkstatt ist geöffnet
UID:042ea978-7012-40e1-9ab6-8140e95c35b5
URL:https://touren-termine.adfc.de/radveranstaltung/165999-selbsthilfewerk
 statt-ist-geoffnet
END:VEVENT
END:VCALENDAR
