BEGIN:VCALENDAR
PRODID:-//github.com/rianjs/ical.net//NONSGML ical.net 4.0//EN
VERSION:2.0
BEGIN:VEVENT
DESCRIPTION:Wir helfen und geben Tipps zur Reparatur\, Pflege und Wartung 
 eurer Fahrräder\nhttps://touren-termine.adfc.de/radveranstaltung/190211-r
 adreparaturcafe
DTEND:20260411T130000Z
DTSTAMP:20260421T190542Z
DTSTART:20260411T090000Z
LOCATION:WIWOZU\, Südring 23\, 45525 Hattingen
SEQUENCE:0
SUMMARY:RadReparaturCafé
UID:fb0eb878-d1f0-420c-b775-8057e6d08a77
URL:https://touren-termine.adfc.de/radveranstaltung/190211-radreparaturcafe
END:VEVENT
END:VCALENDAR
