BEGIN:VCALENDAR
PRODID:-//github.com/rianjs/ical.net//NONSGML ical.net 4.0//EN
VERSION:2.0
BEGIN:VEVENT
DESCRIPTION:Teil der Sternfahrt von Kremmen über Schwante zum Stadtfest "3
 0 Jahre OHV" nach Oranienburg\nhttps://touren-termine.adfc.de/radveransta
 ltung/106161-stadtradelnabschluss-kremmen-oranienburg
DTEND:20230923T103000Z
DTSTAMP:20260425T232313Z
DTSTART:20230923T083000Z
LOCATION:Am Markt\, 16766 Kremmen
SEQUENCE:0
SUMMARY:Stadtradeln-Abschluss: Kremmen > Oranienburg
UID:b5499d21-b560-44f3-8584-a10d848f7c91
URL:https://touren-termine.adfc.de/radveranstaltung/106161-stadtradelnabsc
 hluss-kremmen-oranienburg
END:VEVENT
END:VCALENDAR
