BEGIN:VCALENDAR
PRODID:-//github.com/rianjs/ical.net//NONSGML ical.net 4.0//EN
VERSION:2.0
BEGIN:VEVENT
DESCRIPTION:Aussichtsreiche Nachmittagstour nach Wachenheim\nhttps://toure
 n-termine.adfc.de/radveranstaltung/148050-nachmittagstour-nach-wachenheim
DTEND:20250503T160000Z
DTSTAMP:20260425T173211Z
DTSTART:20250503T120000Z
LOCATION:Festplatzstraße 7\, 67433 Neustadt an der Weinstraße
SEQUENCE:0
SUMMARY:Nachmittagstour nach Wachenheim
UID:766ea39e-1d4e-4ba1-8b32-77621c0d8397
URL:https://touren-termine.adfc.de/radveranstaltung/148050-nachmittagstour
 -nach-wachenheim
END:VEVENT
END:VCALENDAR
