BEGIN:VCALENDAR
PRODID:-//github.com/rianjs/ical.net//NONSGML ical.net 4.0//EN
VERSION:2.0
BEGIN:VEVENT
DESCRIPTION:Schöne Fahrradtour rund um das Lausitzer Seengebiet mit Besich
 tigung eines Tagebaus.\nhttps://touren-termine.adfc.de/radveranstaltung/1
 38478-wasser-und-kohle-tour-durch-die-lausitz
DTEND:20240924T170000Z
DTSTAMP:20260424T144056Z
DTSTART:20240924T063000Z
LOCATION:Bhf. Berlin Friedrichstraße\, DB Reisezentrum\, 10117 Berlin
SEQUENCE:0
SUMMARY:Wasser und Kohle - Tour durch die Lausitz
UID:b4ba714d-9377-430e-ad2d-85d934387589
URL:https://touren-termine.adfc.de/radveranstaltung/138478-wasser-und-kohl
 e-tour-durch-die-lausitz
END:VEVENT
END:VCALENDAR
