BEGIN:VCALENDAR
PRODID:-//github.com/rianjs/ical.net//NONSGML ical.net 4.0//EN
VERSION:2.0
BEGIN:VEVENT
DESCRIPTION:Den ADFC vor Ort kennenlernen: eine kleine\, lockere und leich
 te Feierabendtour anlässlich des Stadtradelns rund um Bad Berleburg\, ans
 chließende optionale Einkehr mit Zeit zum Plaudern.\nhttps://touren-termi
 ne.adfc.de/radveranstaltung/159221-kennlernfeierabendtour-anlasslich-stad
 tradeln
DTEND:20250610T180000Z
DTSTAMP:20260423T031105Z
DTSTART:20250610T160000Z
LOCATION:Bahnhofstraße 1\, Bahnhofsvorplatz\, 57319 Bad Berleburg
SEQUENCE:0
SUMMARY:Kennlern-Feierabendtour anlässlich Stadtradeln
UID:e6b30e61-a6a2-4b4e-9138-8291cb1cb666
URL:https://touren-termine.adfc.de/radveranstaltung/159221-kennlernfeierab
 endtour-anlasslich-stadtradeln
END:VEVENT
END:VCALENDAR
