BEGIN:VCALENDAR
PRODID:-//github.com/rianjs/ical.net//NONSGML ical.net 4.0//EN
VERSION:2.0
BEGIN:VEVENT
DESCRIPTION:Di\, 28.4.2026\, 19.oo - 21.oo\nSBS Burgwedel\, Gartenstr. 10\
 , 30938 Großburgwedel\nhttps://touren-termine.adfc.de/radveranstaltung/19
 2711-offentlicher-radlertreff
DTEND:20260825T190000Z
DTSTAMP:20260423T105922Z
DTSTART:20260825T170000Z
LOCATION:Gartenstraße 10\, 30938 Burgwedel
SEQUENCE:0
SUMMARY:Öffentlicher Radlertreff
UID:0ef88015-a66d-41ea-a933-a8f5323c8bd0
URL:https://touren-termine.adfc.de/radveranstaltung/192711-offentlicher-ra
 dlertreff
END:VEVENT
END:VCALENDAR
