BEGIN:VCALENDAR
PRODID:-//github.com/rianjs/ical.net//NONSGML ical.net 4.0//EN
VERSION:2.0
BEGIN:VEVENT
DESCRIPTION:ADFC-Radtour an der Rench. Auf den Spuren von Grimmelshausen z
 um Simplicissimus-Haus in Renchen.\nhttps://touren-termine.adfc.de/radver
 anstaltung/175419-oberkircher-heimattagetour
DTEND:20260607T160000Z
DTSTAMP:20260422T233005Z
DTSTART:20260607T120000Z
LOCATION:Hauptstraße 32\, 77704 Oberkirch
SEQUENCE:0
SUMMARY:Oberkircher Heimattagetour
UID:553ef53a-4593-444c-8e29-677e6ad3aa13
URL:https://touren-termine.adfc.de/radveranstaltung/175419-oberkircher-hei
 mattagetour
END:VEVENT
END:VCALENDAR
